BEGIN:VCALENDAR
VERSION:2.0
PRODID:-//Fish Head Farms - ECPv6.15.20//NONSGML v1.0//EN
CALSCALE:GREGORIAN
METHOD:PUBLISH
X-WR-CALNAME:Fish Head Farms
X-ORIGINAL-URL:https://fishheadfarmscali.com
X-WR-CALDESC:Events for Fish Head Farms
REFRESH-INTERVAL;VALUE=DURATION:PT1H
X-Robots-Tag:noindex
X-PUBLISHED-TTL:PT1H
BEGIN:VTIMEZONE
TZID:America/New_York
BEGIN:DAYLIGHT
TZOFFSETFROM:-0500
TZOFFSETTO:-0400
TZNAME:EDT
DTSTART:20250309T070000
END:DAYLIGHT
BEGIN:STANDARD
TZOFFSETFROM:-0400
TZOFFSETTO:-0500
TZNAME:EST
DTSTART:20251102T060000
END:STANDARD
BEGIN:DAYLIGHT
TZOFFSETFROM:-0500
TZOFFSETTO:-0400
TZNAME:EDT
DTSTART:20260308T070000
END:DAYLIGHT
BEGIN:STANDARD
TZOFFSETFROM:-0400
TZOFFSETTO:-0500
TZNAME:EST
DTSTART:20261101T060000
END:STANDARD
BEGIN:DAYLIGHT
TZOFFSETFROM:-0500
TZOFFSETTO:-0400
TZNAME:EDT
DTSTART:20270314T070000
END:DAYLIGHT
BEGIN:STANDARD
TZOFFSETFROM:-0400
TZOFFSETTO:-0500
TZNAME:EST
DTSTART:20271107T060000
END:STANDARD
END:VTIMEZONE
BEGIN:VEVENT
DTSTART;VALUE=DATE:20260626
DTEND;VALUE=DATE:20260628
DTSTAMP:20260423T050420
CREATED:20260327T134657Z
LAST-MODIFIED:20260327T134657Z
UID:26284-1782432000-1782604799@fishheadfarmscali.com
SUMMARY:Exhibiting at Oregon Hempfest
DESCRIPTION:
URL:https://fishheadfarmscali.com/event/exhibiting-at-oregon-hempfest/
LOCATION:Oregon Hempfest\, 454 Gravel Pit Lane\, Riddle\, OR\, 97469\, United States
END:VEVENT
BEGIN:VEVENT
DTSTART;VALUE=DATE:20260721
DTEND;VALUE=DATE:20260722
DTSTAMP:20260423T050420
CREATED:20260327T135856Z
LAST-MODIFIED:20260327T135856Z
UID:26286-1784592000-1784678399@fishheadfarmscali.com
SUMMARY:Exhibiting at MRTF 2026 Turf and Landscape
DESCRIPTION:
URL:https://fishheadfarmscali.com/event/exhibiting-at-mrtf-2026-turf-and-landscape/
LOCATION:Daniel Turf Center\, 1340 Cherry Lane\, West Lafayette\, IN\, 47907\, United States
END:VEVENT
BEGIN:VEVENT
DTSTART;VALUE=DATE:20260804
DTEND;VALUE=DATE:20260807
DTSTAMP:20260423T050420
CREATED:20260327T140937Z
LAST-MODIFIED:20260327T140937Z
UID:26289-1785801600-1786060799@fishheadfarmscali.com
SUMMARY:Exhibiting at Minnesota Farmfest
DESCRIPTION:
URL:https://fishheadfarmscali.com/event/exhibiting-at-minnesota-farmfest/
LOCATION:Minnesota Farmfest\, 28366 County Highway 13\, Morgan\, MN\, 56266\, United States
END:VEVENT
BEGIN:VEVENT
DTSTART;VALUE=DATE:20260811
DTEND;VALUE=DATE:20260813
DTSTAMP:20260423T050420
CREATED:20260327T141651Z
LAST-MODIFIED:20260327T141651Z
UID:26292-1786406400-1786579199@fishheadfarmscali.com
SUMMARY:Exhibiting at Agro Expo
DESCRIPTION:
URL:https://fishheadfarmscali.com/event/exhibiting-at-agro-expo/
LOCATION:North Central Research Station\, 5605 North Findlay Road\, St. Johns\, MI\, 48879\, United States
END:VEVENT
BEGIN:VEVENT
DTSTART;VALUE=DATE:20260818
DTEND;VALUE=DATE:20260821
DTSTAMP:20260423T050420
CREATED:20260327T142928Z
LAST-MODIFIED:20260327T142928Z
UID:26294-1787011200-1787270399@fishheadfarmscali.com
SUMMARY:Exhibiting at Dakotafest
DESCRIPTION:
URL:https://fishheadfarmscali.com/event/exhibiting-at-dakotafest/
LOCATION:Dakotafest\, 2300 E Spruce Street\, Mitchell\, SD\, 57301\, United States
END:VEVENT
BEGIN:VEVENT
DTSTART;VALUE=DATE:20260901
DTEND;VALUE=DATE:20260904
DTSTAMP:20260423T050420
CREATED:20260327T143216Z
LAST-MODIFIED:20260327T143216Z
UID:26296-1788220800-1788479999@fishheadfarmscali.com
SUMMARY:Exhibiting at Farm Progress
DESCRIPTION:
URL:https://fishheadfarmscali.com/event/exhibiting-at-farm-progress/
LOCATION:Farm Progress\, 1827 217th Road\, Boone\, IA\, 50036\, United States
END:VEVENT
BEGIN:VEVENT
DTSTART;VALUE=DATE:20260915
DTEND;VALUE=DATE:20260918
DTSTAMP:20260423T050420
CREATED:20260327T143654Z
LAST-MODIFIED:20260327T143654Z
UID:26298-1789430400-1789689599@fishheadfarmscali.com
SUMMARY:Exhibiting at Husker Harvest Days
DESCRIPTION:
URL:https://fishheadfarmscali.com/event/exhibiting-at-husker-harvest-days/
LOCATION:Husker Harvest Days\, 9000 West Husker Hwy\, Wood River\, NE\, 68883\, United States
END:VEVENT
BEGIN:VEVENT
DTSTART;VALUE=DATE:20260930
DTEND;VALUE=DATE:20261003
DTSTAMP:20260423T050420
CREATED:20260327T144853Z
LAST-MODIFIED:20260327T150643Z
UID:26300-1790726400-1790985599@fishheadfarmscali.com
SUMMARY:Exhibiting at FL Turfgrass Association
DESCRIPTION:
URL:https://fishheadfarmscali.com/event/exhibiting-at-fl-turfgrass-association/
LOCATION:World Equestrian Center\, 1750 NW 80th Ave\, Ocala\, FL\, 34482\, United States
END:VEVENT
BEGIN:VEVENT
DTSTART;VALUE=DATE:20261003
DTEND;VALUE=DATE:20261006
DTSTAMP:20260423T050420
CREATED:20260327T151121Z
LAST-MODIFIED:20260327T151121Z
UID:26302-1790985600-1791244799@fishheadfarmscali.com
SUMMARY:Exhibiting at Ozark Fall Farmfest
DESCRIPTION:
URL:https://fishheadfarmscali.com/event/exhibiting-at-ozark-fall-farmfest/
LOCATION:Ozark Empire Fairgrounds\, 3001 N Grant Ave\, Springfield\, MO\, 65803\, United States
END:VEVENT
BEGIN:VEVENT
DTSTART;VALUE=DATE:20261027
DTEND;VALUE=DATE:20261030
DTSTAMP:20260423T050420
CREATED:20260327T151411Z
LAST-MODIFIED:20260327T151411Z
UID:26304-1793059200-1793318399@fishheadfarmscali.com
SUMMARY:Exhibiting at Deep South Turf Expo
DESCRIPTION:
URL:https://fishheadfarmscali.com/event/exhibiting-at-deep-south-turf-expo/
LOCATION:The Beau Rivage Resort\, 875 Beach Blvd\, Biloxi\, MS\, 39530\, United States
END:VEVENT
BEGIN:VEVENT
DTSTART;VALUE=DATE:20261108
DTEND;VALUE=DATE:20261112
DTSTAMP:20260423T050420
CREATED:20260327T152324Z
LAST-MODIFIED:20260327T152324Z
UID:26306-1794096000-1794441599@fishheadfarmscali.com
SUMMARY:Exhibiting at Elevate
DESCRIPTION:
URL:https://fishheadfarmscali.com/event/exhibiting-at-elevate/
LOCATION:Tampa Convention Center\, 333 South Franklin Street\, Tampa\, FL\, 33602\, United States
END:VEVENT
BEGIN:VEVENT
DTSTART;VALUE=DATE:20261116
DTEND;VALUE=DATE:20261119
DTSTAMP:20260423T050420
CREATED:20260327T154249Z
LAST-MODIFIED:20260327T154249Z
UID:26308-1794787200-1795046399@fishheadfarmscali.com
SUMMARY:Exhibiting at Carolinas GCSA Conference and Show
DESCRIPTION:
URL:https://fishheadfarmscali.com/event/exhibiting-at-carolinas-gcsa-conference-and-show/
LOCATION:Myrtle Beach Convention Center\, 2101 N Oak St\, Myrtle Beach\, SC\, 29577\, United States
END:VEVENT
BEGIN:VEVENT
DTSTART;VALUE=DATE:20261208
DTEND;VALUE=DATE:20261211
DTSTAMP:20260423T050420
CREATED:20260327T155049Z
LAST-MODIFIED:20260327T155049Z
UID:26310-1796688000-1796947199@fishheadfarmscali.com
SUMMARY:Exhibitor at Nebraska Ag Expo
DESCRIPTION:
URL:https://fishheadfarmscali.com/event/exhibitor-at-nebraska-ag-expo/
LOCATION:Sandhills Global Event Center\, 4100 N 84th Street\, Lincoln\, NE\, 68507\, United States
END:VEVENT
BEGIN:VEVENT
DTSTART;VALUE=DATE:20261208
DTEND;VALUE=DATE:20261211
DTSTAMP:20260423T050420
CREATED:20260327T164052Z
LAST-MODIFIED:20260327T164052Z
UID:26312-1796688000-1796947199@fishheadfarmscali.com
SUMMARY:Exhibitor at Great Lakes Expo
DESCRIPTION:
URL:https://fishheadfarmscali.com/event/exhibitor-at-great-lakes-expo/
LOCATION:Devos Place\, 303 Monroe Ave NW\, Grand Rapids\, MI\, 49503\, United States
END:VEVENT
END:VCALENDAR